BEGIN:VCALENDAR
VERSION:2.0
PRODID:-//Talks.cam//talks.cam.ac.uk//
X-WR-CALNAME:Talks.cam
BEGIN:VEVENT
SUMMARY:Autophoretic motion in three dimensions - Maciej Lisicki (Universi
 ty of Cambridge)
DTSTART:20171102T130000Z
DTEND:20171102T140000Z
UID:TALK94486@talks.cam.ac.uk
CONTACT:Julius Bier Kirkegaard
DESCRIPTION:Abstract not available
LOCATION:MR11\, Centre for Mathematical Sciences\, Wilberforce Road\, Camb
 ridge
END:VEVENT
END:VCALENDAR
