BEGIN:VCALENDAR
VERSION:2.0
PRODID:-//Talks.cam//talks.cam.ac.uk//
X-WR-CALNAME:Talks.cam
BEGIN:VEVENT
SUMMARY: CPC Title: ‘Windows for opportunity in autoimmunity’ - Presen
 ter: Seerupani Gopulani
DTSTART:20171129T130000Z
DTEND:20171129T140000Z
UID:TALK95275@talks.cam.ac.uk
CONTACT:Vicky Clarke
DESCRIPTION:Specialist Lead: Professor Ian Wilkinson\n\nConsultant: Frank 
 Waldron-Lynch & David Jayne\n\nPresenter: Seerupani Gopulani\n\nTitle: ‘
 Windows for opportunity in autoimmunity’\n\nSpeciality: CPC EMIT Experim
 ental Medicine & Clinical Pharmacology\n
LOCATION:William Harvey Lecture Theatre
END:VEVENT
END:VCALENDAR
