BEGIN:VCALENDAR
VERSION:2.0
PRODID:-//Talks.cam//talks.cam.ac.uk//
X-WR-CALNAME:Talks.cam
BEGIN:VEVENT
SUMMARY: Auxin and cytokinin regulation of root architecture - antagonism 
 or synergy - Eva Benkova (IST Austria)
DTSTART:20180228T160000Z
DTEND:20180228T170000Z
UID:TALK95887@talks.cam.ac.uk
CONTACT:Hannah Main
DESCRIPTION:Abstract not available
LOCATION:Auditorium of The Sainsbury Laboratory (Bateman Street)
END:VEVENT
END:VCALENDAR
