BEGIN:VCALENDAR
VERSION:2.0
PRODID:-//Talks.cam//talks.cam.ac.uk//
X-WR-CALNAME:Talks.cam
BEGIN:VEVENT
SUMMARY:TODAY Foster Talk - "Paraspeckles\, TDP-43 & alternative polyadeny
 lation: how regulation of a membraneless compartment guides cell fate" - D
 r Jernej Ule\, Francis Crick Institute\, London
DTSTART:20180301T160000Z
DTEND:20180301T170000Z
UID:TALK96538@talks.cam.ac.uk
CONTACT:Lyn Dakin
DESCRIPTION:Abstract not available
LOCATION:Hodgkin Huxley Seminar Room\, Physiology Building\, Downing Site
END:VEVENT
END:VCALENDAR
