BEGIN:VCALENDAR
VERSION:2.0
PRODID:-//Talks.cam//talks.cam.ac.uk//
X-WR-CALNAME:Talks.cam
BEGIN:VEVENT
SUMMARY:C++ and the Standard Library - Tim Love\, CUED
DTSTART:20080201T150000Z
DTEND:20080201T160000Z
UID:TALK9693@talks.cam.ac.uk
CONTACT:Tim Love
DESCRIPTION:An introduction to containers and algorithms for people who ha
 ve used C++. Aimed at CUED 3rd and 4th years\, but anyone's welcome.
LOCATION:LT0\, Engineering Department
END:VEVENT
END:VCALENDAR
