BEGIN:VCALENDAR
VERSION:2.0
PRODID:-//Talks.cam//talks.cam.ac.uk//
X-WR-CALNAME:Talks.cam
BEGIN:VEVENT
SUMMARY:Writing WWW documents - advanced features - Tim Love\, CUED
DTSTART:20080222T150000Z
DTEND:20080222T160000Z
UID:TALK9696@talks.cam.ac.uk
CONTACT:Tim Love
DESCRIPTION:A quick introduction to Cascading Style Sheets\, counters\, Fo
 rms\, Databases\, JavaScript\, Maths\, Movies\, etc.
LOCATION:LT0\, Engineering Department
END:VEVENT
END:VCALENDAR
