BEGIN:VCALENDAR
VERSION:2.0
PRODID:-//Talks.cam//talks.cam.ac.uk//
X-WR-CALNAME:Talks.cam
BEGIN:VEVENT
SUMMARY:Title: A vascular complication in a trace element disorder -  Pres
 enter: Dr Carla Moran & Dr Erik Schoenmakers
DTSTART:20180124T133000Z
DTEND:20180124T140000Z
UID:TALK97108@talks.cam.ac.uk
CONTACT:Vicky Clarke
DESCRIPTION:Specialist Lead: Professor Sadaf Farooqi\n\nLead Consultant: P
 rof Chatterjee\n\nPresenter: Dr Carla Moran & Dr Erik Schoenmakers\n\nTitl
 e: A vascular complication in a trace element disorder\n\nSpecialty: Diabe
 tes & Endocrinology\n\n
LOCATION:William Harvey Lecture Theatre
END:VEVENT
END:VCALENDAR
