BEGIN:VCALENDAR
VERSION:2.0
PRODID:-//Talks.cam//talks.cam.ac.uk//
X-WR-CALNAME:Talks.cam
BEGIN:VEVENT
SUMMARY:Transforming economics for a thriving 2027 - Kate Raworth
DTSTART:20180118T183000Z
DTEND:20180118T200000Z
UID:TALK97930@talks.cam.ac.uk
CONTACT:Mark Carrigan
DESCRIPTION:Kate Raworth presents her personal\, positive vision - and the
 n leads discussion - on how we can 'rethink Economics'\, to transform what
  we aim for and how we measure success\, for the benefit of all in 2027.\n
 \nPart of the imagine2027 series of events - see www.imagine2027.org.uk fo
 r more details\, and how to get involved.\n\nPlease register via "Eventbri
 te":https://www.eventbrite.co.uk/e/kate-raworth-transforming-economics-for
 -a-thriving-2027-tickets-39510371585?ref=ecount
LOCATION:Anglia Ruskin University\, Lecture Theatre LAB002
END:VEVENT
END:VCALENDAR
