BEGIN:VCALENDAR
VERSION:2.0
PRODID:-//Talks.cam//talks.cam.ac.uk//
X-WR-CALNAME:Talks.cam
BEGIN:VEVENT
SUMMARY:On the morphology and vulnerability of dopamine neurons in Parkins
 on's disease - Louis-Eric Trudeau\, University of Montreal
DTSTART:20180329T110000Z
DTEND:20180329T120000Z
UID:TALK98137@talks.cam.ac.uk
CONTACT:Dr Romina Vuono
DESCRIPTION:Abstract not available
LOCATION:TBC
END:VEVENT
END:VCALENDAR
