BEGIN:VCALENDAR
VERSION:2.0
PRODID:-//Talks.cam//talks.cam.ac.uk//
X-WR-CALNAME:Talks.cam
BEGIN:VEVENT
SUMMARY:Jonathan Levy: Instability and Inequality: American after the Volc
 ker Shock of 1990 - Jonathan Levy\, University of Chicago
DTSTART:20180122T170000Z
DTEND:20180122T190000Z
UID:TALK98224@talks.cam.ac.uk
CONTACT:Jonathan Goodwin
DESCRIPTION:Abstract not available
LOCATION:Knox Shaw Room\, Sidney Sussex College
END:VEVENT
END:VCALENDAR
