BEGIN:VCALENDAR
VERSION:2.0
PRODID:-//Talks.cam//talks.cam.ac.uk//
X-WR-CALNAME:Talks.cam
BEGIN:VEVENT
SUMMARY:Taming the Dissenters: Shiism and the Concept of the Four Rightly-
 Guided Caliphs (al-khulafāʾ al-rāshidūn) in Early Islam - Dr Su I-Wen\
 , National Chengchi University\, Taipei
DTSTART:20180129T130000Z
DTEND:20180129T143000Z
UID:TALK98719@talks.cam.ac.uk
CONTACT:Dr Charis Olszok
DESCRIPTION:Abstract not available
LOCATION:FAMES\, Common Room
END:VEVENT
END:VCALENDAR
