BEGIN:VCALENDAR
VERSION:2.0
PRODID:-//Talks.cam//talks.cam.ac.uk//
X-WR-CALNAME:Talks.cam
BEGIN:VEVENT
SUMMARY:Workshop on Melissa Lane's Carlyle Lectures - Prof. Melissa Lane (
 Princeton)
DTSTART:20180126T143000Z
DTEND:20180126T160000Z
UID:TALK98737@talks.cam.ac.uk
CONTACT:Waseem Yaqoob
DESCRIPTION:Professor Melissa Lane (Princeton University\, formerly Univer
 sity Lecturer in the History of Political Thought here in Cambridge) is gi
 ving this year's Carlyle Lectures in Oxford\, on the subject:\n\n'Constitu
 tions before Constitutionalism: Classical Greek ideas of Office and Rule'\
 n\nDetails\, including brief summaries of the lectures\, are available at:
 \nhttps://www.history.ox.ac.uk/carlyle-lectures\n\nA Workshop to discuss P
 rofessor Lane's first two lectures will be held in Cambridge on Friday 26 
 January 2018\, between 2.30 and 4pm in the Latimer Room\, Old Court\, Clar
 e College. \n\nCopies of the lectures will be available in advance to thos
 e wishing to attend. Professor Lane will introduce the lectures\, and Prof
 essor Malcolm Schofield has kindly agreed to give an opening comment. This
  will be followed by open discussion.\n\nAll who are interested are welcom
 e to attend and participate. So that we can gauge numbers (incl. for tea a
 fterwards)\, please email Prof. John Robertson (jcr57@cam.ac.uk) if you in
 tend to come. Copies of the lectures will be circulated to those who plan 
 to attend.
LOCATION:Latimer Room
END:VEVENT
END:VCALENDAR
