BEGIN:VCALENDAR
VERSION:2.0
PRODID:-//Talks.cam//talks.cam.ac.uk//
X-WR-CALNAME:Talks.cam
BEGIN:VEVENT
SUMMARY:"A tale of two autoantigens" - Richard Kitching\, Monash Universit
 y
DTSTART:20180123T130000Z
DTEND:20180123T140000Z
UID:TALK98758@talks.cam.ac.uk
CONTACT:Tammy Dougan
DESCRIPTION:Abstract not available
LOCATION:Patrick Sissons seminar room (Purple seminar room)\, Dept Medicin
 e\, Level 5\, Addenbrookes hospital
END:VEVENT
END:VCALENDAR
