BEGIN:VCALENDAR
VERSION:2.0
PRODID:-//Talks.cam//talks.cam.ac.uk//
X-WR-CALNAME:Talks.cam
BEGIN:VEVENT
SUMMARY:Human type I interferonopathies - Yanick Crow\, Laboratory of Neur
 ogenetics and Neuroinflammation\, France
DTSTART:20180209T130000Z
DTEND:20180209T140000Z
UID:TALK98767@talks.cam.ac.uk
CONTACT:Tammy Dougan
DESCRIPTION:Abstract not available
LOCATION:MPLT\, MRC-LMB\, Francis Crick Avenue\, Cambridge Biomedical Camp
 us\, CB2 0QH
END:VEVENT
END:VCALENDAR
