BEGIN:VCALENDAR
VERSION:2.0
PRODID:-//Talks.cam//talks.cam.ac.uk//
X-WR-CALNAME:Talks.cam
BEGIN:VEVENT
SUMMARY:Social support and breastfeeding in the UK: evolutionary perspecti
 ves and implications for public health - Emily Emmott (University College 
 London)
DTSTART:20180307T163000Z
DTEND:20180307T173000Z
UID:TALK98953@talks.cam.ac.uk
CONTACT:Michael Rivera
DESCRIPTION:Abstract not available
LOCATION:Seminar Room\, Henry Wellcome Building\, Division of Biological A
 nthropology\, Fitzwilliam Street\, Cambridge\, CB2 3QG
END:VEVENT
END:VCALENDAR
