BEGIN:VCALENDAR
VERSION:2.0
PRODID:-//Talks.cam//talks.cam.ac.uk//
X-WR-CALNAME:Talks.cam
BEGIN:VEVENT
SUMMARY:Steven van Belleghem - Steven van Belleghem
DTSTART:20180206T100000Z
DTEND:20180206T113000Z
UID:TALK98989@talks.cam.ac.uk
CONTACT:41031
DESCRIPTION:Abstract not available
LOCATION:First Floor Seminar Room\, Department of Zoology
END:VEVENT
END:VCALENDAR
