BEGIN:VCALENDAR
VERSION:2.0
PRODID:-//Talks.cam//talks.cam.ac.uk//
X-WR-CALNAME:Talks.cam
BEGIN:VEVENT
SUMMARY:Laura Hebberecht López and	Nick Mundy - Laura Hebberecht López a
 nd	Nick Mundy
DTSTART:20180403T090000Z
DTEND:20180403T103000Z
UID:TALK99010@talks.cam.ac.uk
CONTACT:41031
DESCRIPTION:Abstract not available
LOCATION:First Floor Seminar Room\, Department of Zoology
END:VEVENT
END:VCALENDAR
