BEGIN:VCALENDAR
VERSION:2.0
PRODID:-//Talks.cam//talks.cam.ac.uk//
X-WR-CALNAME:Talks.cam
BEGIN:VEVENT
SUMMARY:Building the next generation climate model - N. Nikoforakis\, Depa
 rtment of Applied Mathematics and Theoretical Physics\, University of Camb
 ridge
DTSTART:20080207T160000Z
DTEND:20080207T170000Z
UID:TALK9910@talks.cam.ac.uk
CONTACT:Stephen Walley
DESCRIPTION:Abstract not available
LOCATION:Mott Seminar Room\, Cavendish Laboratory\, Department of Physics
END:VEVENT
END:VCALENDAR
